BEGIN:VCALENDAR
VERSION:2.0
PRODID:-//eventon.com NONSGML v1.0//EN
CALSCALE:GREGORIAN
METHOD:PUBLISH
BEGIN:VEVENT
UID:69e73b4cc3bc3
DTSTAMP:20260421T085436Z
DTSTART:20240215T200000Z
DTEND:20240215T210000Z
LOCATION:https://churchmutual.zoom.us/meeting/register/tJcode2rrDIjHtPju0hjWlxB_5CPt5ImD9lQ
SUMMARY:Safety Committee Training (PA)
DESCRIPTION:Safety Committee Training (PA)\nhttps://cmregent.com/blog/event
 s/safety-committee-training-pennsylvania-2024-02-15-1500/var/event_access
URL:https://cmregent.com/blog/events/safety-committee-training-pennsylvania-2024-02-15-1500/var/event_access
END:VEVENT
END:VCALENDAR