BEGIN:VCALENDAR
VERSION:2.0
PRODID:-//eventon.com NONSGML v1.0//EN
CALSCALE:GREGORIAN
METHOD:PUBLISH
BEGIN:VEVENT
UID:69e73eea631d5
DTSTAMP:20260421T091002Z
DTSTART:20240604T110000Z
DTEND:20240604T120000Z
LOCATION:https://churchmutual.zoom.us/meeting/register/tJ0uce6vqTwqGdJE28MaJA-c8bhsf0fAolVo
SUMMARY:Safety Committee Training (PA)
DESCRIPTION:Safety Committee Training (PA)\nhttps://cmregent.com/blog/event
 s/safety-committee-training-pa-10/var/event_access
URL:https://cmregent.com/blog/events/safety-committee-training-pa-10/var/event_access
END:VEVENT
END:VCALENDAR