BEGIN:VCALENDAR
VERSION:2.0
PRODID:-//eventon.com NONSGML v1.0//EN
CALSCALE:GREGORIAN
METHOD:PUBLISH
BEGIN:VEVENT
UID:69e763709285b
DTSTAMP:20260421T114552Z
DTSTART:20240710T190000Z
DTEND:20240710T200000Z
LOCATION:https://churchmutual.zoom.us/meeting/register/tJUtdO2orjwpG9LHK2vDEuEAjyosAz8mb5He
SUMMARY:Safety Committee Training (PA)
DESCRIPTION:Safety Committee Training (PA)\nhttps://cmregent.com/blog/event
 s/safety-committee-training-pa-13/var/event_access
URL:https://cmregent.com/blog/events/safety-committee-training-pa-13/var/event_access
END:VEVENT
END:VCALENDAR