BEGIN:VCALENDAR
VERSION:2.0
PRODID:-//eventon.com NONSGML v1.0//EN
CALSCALE:GREGORIAN
METHOD:PUBLISH
BEGIN:VEVENT
UID:69e7641d5b958
DTSTAMP:20260421T114845Z
DTSTART:20240829T190000Z
DTEND:20240829T200000Z
LOCATION:https://churchmutual.zoom.us/meeting/register/tJwkcuCgqDgoH9ZadFs0DigMij_UixXti3VP
SUMMARY:Safety Committee Training (PA)
DESCRIPTION:Safety Committee Training (PA)\nhttps://cmregent.com/blog/event
 s/safety-committee-training-pa-14/var/event_access
URL:https://cmregent.com/blog/events/safety-committee-training-pa-14/var/event_access
END:VEVENT
END:VCALENDAR