BEGIN:VCALENDAR
VERSION:2.0
PRODID:-//eventon.com NONSGML v1.0//EN
CALSCALE:GREGORIAN
METHOD:PUBLISH
BEGIN:VEVENT
UID:69e78a679e767
DTSTAMP:20260421T143207Z
DTSTART:20240829T110000Z
DTEND:20240829T120000Z
LOCATION:https://churchmutual.zoom.us/meeting/register/tJAqd-ChqTksHNNlPQvzH_KSoC0XVZfmpciR
SUMMARY:Safety Committee Training (PA)
DESCRIPTION:Safety Committee Training (PA)\nhttps://cmregent.com/blog/event
 s/safety-committee-training-pa-15/var/event_access
URL:https://cmregent.com/blog/events/safety-committee-training-pa-15/var/event_access
END:VEVENT
END:VCALENDAR