BEGIN:VCALENDAR
VERSION:2.0
PRODID:-//eventon.com NONSGML v1.0//EN
CALSCALE:GREGORIAN
METHOD:PUBLISH
BEGIN:VEVENT
UID:69e9e30380827
DTSTAMP:20260423T091443Z
DTSTART:20250312T190000Z
DTEND:20250312T203000Z
LOCATION:https://events.teams.microsoft.com/event/ed869d34-6cac-4ce1-b18c-024345670ef8@af3b07d3-11b5-4660-8702-4db77bdf01be
SUMMARY:Safety Committee Training (PA)
DESCRIPTION:Safety Committee Training (PA)\nhttps://cmregent.com/blog/event
 s/safety-committee-training-pa-42/var/event_access
URL:https://cmregent.com/blog/events/safety-committee-training-pa-42/var/event_access
END:VEVENT
END:VCALENDAR