BEGIN:VCALENDAR
VERSION:2.0
PRODID:-//eventon.com NONSGML v1.0//EN
CALSCALE:GREGORIAN
METHOD:PUBLISH
BEGIN:VEVENT
UID:69e755b975955
DTSTAMP:20260421T104721Z
DTSTART:20250312T143000Z
DTEND:20250312T160000Z
LOCATION:https://events.teams.microsoft.com/event/f710f953-4469-4134-aa39-5a2233ca4e4f@af3b07d3-11b5-4660-8702-4db77bdf01be
SUMMARY:Safety Committee Training (PA)
DESCRIPTION:Safety Committee Training (PA)\nhttps://cmregent.com/blog/event
 s/safety-committee-training-pa-43/var/event_access
URL:https://cmregent.com/blog/events/safety-committee-training-pa-43/var/event_access
END:VEVENT
END:VCALENDAR