BEGIN:VCALENDAR
VERSION:2.0
PRODID:-//eventon.com NONSGML v1.0//EN
CALSCALE:GREGORIAN
METHOD:PUBLISH
BEGIN:VEVENT
UID:69e76b85015cc
DTSTAMP:20260421T122021Z
DTSTART:20250320T190000Z
DTEND:20250320T203000Z
LOCATION:https://events.teams.microsoft.com/event/65d32d65-63c2-455a-9169-976e509a51ae@af3b07d3-11b5-4660-8702-4db77bdf01be
SUMMARY:Safety Committee Training (PA)
DESCRIPTION:Safety Committee Training (PA)\nhttps://cmregent.com/blog/event
 s/safety-committee-training-pa-44/var/event_access
URL:https://cmregent.com/blog/events/safety-committee-training-pa-44/var/event_access
END:VEVENT
END:VCALENDAR