BEGIN:VCALENDAR
VERSION:2.0
PRODID:-//eventon.com NONSGML v1.0//EN
CALSCALE:GREGORIAN
METHOD:PUBLISH
BEGIN:VEVENT
UID:69e79b5622f0a
DTSTAMP:20260421T154422Z
DTSTART:20250320T110000Z
DTEND:20250320T123000Z
LOCATION:https://events.teams.microsoft.com/event/36dd6bec-04ea-430a-84ad-4a0da416ac51@af3b07d3-11b5-4660-8702-4db77bdf01be
SUMMARY:Safety Committee Training (PA)
DESCRIPTION:Safety Committee Training (PA)\nhttps://cmregent.com/blog/event
 s/safety-committee-training-pa-47/var/event_access
URL:https://cmregent.com/blog/events/safety-committee-training-pa-47/var/event_access
END:VEVENT
END:VCALENDAR