BEGIN:VCALENDAR
VERSION:2.0
PRODID:-//eventon.com NONSGML v1.0//EN
CALSCALE:GREGORIAN
METHOD:PUBLISH
BEGIN:VEVENT
UID:69e76c81ae5a7
DTSTAMP:20260421T122433Z
DTSTART:20250410T110000Z
DTEND:20250410T123000Z
LOCATION:https://events.teams.microsoft.com/event/e99e5cd7-0e96-46a5-a6b7-a0d947647eba@af3b07d3-11b5-4660-8702-4db77bdf01be
SUMMARY:Safety Committee Training (PA)
DESCRIPTION:Safety Committee Training (PA)\nhttps://cmregent.com/blog/event
 s/safety-committee-training-pa-50/var/event_access
URL:https://cmregent.com/blog/events/safety-committee-training-pa-50/var/event_access
END:VEVENT
END:VCALENDAR