BEGIN:VCALENDAR
VERSION:2.0
PRODID:-//eventon.com NONSGML v1.0//EN
CALSCALE:GREGORIAN
METHOD:PUBLISH
BEGIN:VEVENT
UID:69e76c4f1ffba
DTSTAMP:20260421T122343Z
DTSTART:20250410T143000Z
DTEND:20250410T160000Z
LOCATION:https://events.teams.microsoft.com/event/0c57aceb-a1c9-4b5c-bd26-91375a0395df@af3b07d3-11b5-4660-8702-4db77bdf01be
SUMMARY:Safety Committee Training (PA)
DESCRIPTION:Safety Committee Training (PA)\nhttps://cmregent.com/blog/event
 s/safety-committee-training-pa-51/var/event_access
URL:https://cmregent.com/blog/events/safety-committee-training-pa-51/var/event_access
END:VEVENT
END:VCALENDAR